BEGIN:VCALENDAR
VERSION:2.0
METHOD:PUBLISH
BEGIN:VEVENT
UID:WILD_APRICOT_EVENT_1715897_SESSION_1
DTSTART:20140726T010000Z
DTEND:20140726T040000Z
SUMMARY:West Coast BMW M3 and M4 Launch
LOCATION:17 Luisini Road\, Wangara
DESCRIPTION:http://bmwclubwa.asn.au/event-1715897\n\nWest Coast BMW M3 and M4 Launch\n  West Coast BMW will be lunching the exceptional new F80 M3 and F82 M4 to customers during July\, and has kindly invited the BMW Club to be some of the first people in the state to see these new exciting performance cars.\n  The edition of the new models is a highly anticipated event for BMW in Australia. The iconic M3 is unmistakable to anyone familiar with the genre and it’s no different this time with improvements in design\, cabin and overall driving dynamics.\n  ·         Date: Saturday 26 July 2014\n  ·         Time: 9 AM – 12 Noon\n  ·         Venue: West Coast BMW 17 Luisini Road\, Wangara\n  ·         RSVP: Essential by Monday 21 July as numbers may be limited\, and refreshments will be served. Please RSVP to\n  president@bmwclubwa.asn.au\n  Show your support of West Coast BMW and your Club who will be providing three earlier M3 models as a retrospective showcase to the new cars. Thanks to Mike Wakefield and Terry Le May for their support in particular\n  John Slade\n  President\n  BMW Club WA Inc\n   \n  www.bmwclubwa.asn.au\n  
DTSTAMP:20200229T011355Z
END:VEVENT
END:VCALENDAR
