BEGIN:VCALENDAR
VERSION:2.0
METHOD:PUBLISH
BEGIN:VEVENT
UID:WILD_APRICOT_EVENT_3017778_SESSION_1
DTSTART:20190418T160000Z
DTEND:20190422T160000Z
SUMMARY:BMW Clubs Australia Nationals
LOCATION:BMW Car Clubs Victoria in Melbourne
DESCRIPTION:https://www.bmwclubwa.asn.au/event-3017778\n\n19-22 Apr 2019 - Easter - BMW Clubs Australia Nationals hosted by BMW Car Clubs Victoria in Melbourne. Reserve Easter next year for this biennial event. \n  It will be based in St Kilda with a visit to the MCG and Motorsport at Sandown. \n  Website being developed They will be calling for expressions of interest soon.  \n
DTSTAMP:20260424T163957Z
END:VEVENT
END:VCALENDAR
