BEGIN:VCALENDAR
VERSION:2.0
METHOD:PUBLISH
BEGIN:VEVENT
UID:WILD_APRICOT_EVENT_3078595_SESSION_1
DTSTART:20181202T040000Z
DTEND:20181202T070000Z
SUMMARY:AGM and Lunch
LOCATION:The Houghton Winery\, Swan Valley
DESCRIPTION:https://www.bmwclubwa.asn.au/event-3078595\n\nThe Club will provide a catered picnic lunch and a complimentary glass of Houghton sparkling wine under the shady pine trees by the Old Homestead at The Houghton Winery. Bring your partner\, picnic chairs and hats as we enjoy the conviviality of our final event of the year and deal with the formalities of the Annual General Meeting to elect next year's Committee.\n  Please note: Event registrations invitations will follow separately closer to the date of the AGM.\n  \n\n  \n\n
DTSTAMP:20260424T162916Z
END:VEVENT
END:VCALENDAR
