BEGIN:VCALENDAR
VERSION:2.0
METHOD:PUBLISH
BEGIN:VEVENT
UID:WILD_APRICOT_EVENT_3255310_SESSION_1
DTSTART:20191006T010000Z
DTEND:20191006T080000Z
SUMMARY:Como Rotary Car Show
LOCATION:Wesley College\, Angelo Street\, South Perth
DESCRIPTION:https://www.bmwclubwa.asn.au/event-3255310\n\nDisplay your BMW at the Car Show\, in amongst 100s of other modern and classic cars of all shapes and sizes\, as part of a fundraiser for worthy causes. Or alternatively\, just come along and admire all the cars on display for charity.\n  Club members can put their vehicles on display\, then go and have coffee\, brunch\, lunch\, afternoon tea or even a beer or two in any one of the myriad local cafes and bars on Angelo Street\, on a beautiful spring day.\n  Member event registration closing 30/9/19.\n  \n\n
DTSTAMP:20260424T163202Z
END:VEVENT
END:VCALENDAR
