BEGIN:VCALENDAR
VERSION:2.0
METHOD:PUBLISH
BEGIN:VEVENT
UID:WILD_APRICOT_EVENT_3255311_SESSION_1
DTSTART:20190531T010000Z
DTEND:20190603T100000Z
SUMMARY:Long Weekend Away - Albany via Pemberton
LOCATION:Albany\, via the Southwest and Great Southern
DESCRIPTION:https://www.bmwclubwa.asn.au/event-3255311\n\nThe June Long Weekend Away to the Albany Classic Vintage Sportscar Races around the Town and the Hill Climb event.\n  A tour through the Great Southern Region as a Club group on the June long weekend\, overnighting in Pemberton\,to take in the vintage sports car racing in Albany and all the sights\, sounds and tastes of the region.\n  Expressions of interest please by email to president@bmwclubwa.asn.au by Tuesday April 23rd or before\, so have time to determine interest and negotiate arrangements in advance.\n  This has been a very popular regional event. Numbers will be limited to around 25 people due to availability of restaurant and accommodation bookings\, so please provide firm feedback as soon as possible. \n  Fore more information visit The Albany Classic website: www.albanyclassic.com\n
DTSTAMP:20260424T163911Z
END:VEVENT
END:VCALENDAR
