BEGIN:VCALENDAR
VERSION:2.0
METHOD:PUBLISH
BEGIN:VEVENT
UID:WILD_APRICOT_EVENT_3255314_SESSION_1
DTSTART:20191103T020000Z
DTEND:20191103T080000Z
SUMMARY:BMW Club WA Show'N'Shine and Car Display
LOCATION:Manners Hill Park\, Peppermint Grove
DESCRIPTION:https://www.bmwclubwa.asn.au/event-3255314\n\nOur traditional Club Show'N'Shine\, held on the banks of the Swan in Peppermint Grove as a car display and club picnic. Classic and special edition cars will be most welcome. Prizes from BMW Group Australia are awarded to the best-kept BMWs in a range of classes.\n\n  Club sponsors will be participating including attendance and displays and demos from mag wheel refurbishers and dent and ding repairers who will be available to give advice on any issues you have with your pride and joy.\n  Bring your own picnic goodies or use the nearby cafe as back-up for a picnic under the shade of the peppermint trees in the park. A coffee truck will be stationed on the park from early on\, just for us.\n\n  The following link takes you to a great short film made by AJ Film and Photography of some of the BMWs on display at last year’s event: https://www.facebook.com/ajfilmandphotography/videos .\n\n  The slide show on the Home Page also shows some of the fine machinery we displayed last year. Yours could be among them this year.\n\n
DTSTAMP:20260424T163852Z
END:VEVENT
END:VCALENDAR
