BEGIN:VCALENDAR
VERSION:2.0
METHOD:PUBLISH
BEGIN:VEVENT
UID:WILD_APRICOT_EVENT_3255316_SESSION_1
DTSTART:20190908T003000Z
DTEND:20190908T070000Z
SUMMARY:Drive to Historic New Norcia for Lunch via Bullsbrook
LOCATION:Meet at Stirling Square\, Guildford
DESCRIPTION:https://www.bmwclubwa.asn.au/event-3255316\n\nJoin us on a drive to New Norcia followed by lunch at the New Norcia Hotel.\n  We will meet at Stirling Square\, Guildford and drive to Bindoon for coffee prior to travelling on to our destination.  \n  New Norcia was founded in 1847 by Spanish Benedictine Monks and offers a relaxed and enjoyable place for lunch\, you can also take in the Museum and Art Gallery.\n\n  A detailed run sheet for the journey is included here.NEW NORCIA RUN MAPS and DIRECTIONS.pdf\n  Registrations close 31/8/2019.\n\n  \n\n
DTSTAMP:20260424T163841Z
END:VEVENT
END:VCALENDAR
