BEGIN:VCALENDAR
VERSION:2.0
METHOD:PUBLISH
BEGIN:VEVENT
UID:WILD_APRICOT_EVENT_3276576_SESSION_1
DTSTART:20190519T013000Z
DTEND:20190519T073000Z
SUMMARY:British Car Day
LOCATION:Gingin
DESCRIPTION:https://www.bmwclubwa.asn.au/event-3276576\n\nA Club run to Gingin to see the British cars on display followed by lunch.\n  We will rendezvous at Stirling Square Park\, Meadow Street Guildford at 9.30AM for a 10.00AM departure to Gingin.\n  We will be taking a direct route via the Swan Valley and the event promises a great range of Classic\, Vintage and modern British Cars combined with local craft\, a working model ship display and a live Rock ‘n Roll Band.\n  The lunch will be organised at Stringybark Winery in the nearby Chittering Valley\, so those who book for lunch can leave Gingin at 12.30 pm for a 40 minute drive to the winery for wine tasting and a lunch booking for 1.30 pm.\n\n  RSVPs will be collected via a reply to a Club Email shortly.\n\n  \n\n
DTSTAMP:20260424T174825Z
END:VEVENT
END:VCALENDAR
