BEGIN:VCALENDAR
VERSION:2.0
METHOD:PUBLISH
BEGIN:VEVENT
UID:WILD_APRICOT_EVENT_3367404_SESSION_1
DTSTART:20191027T020000Z
DTEND:20191027T073000Z
SUMMARY:German Car Day 2019
LOCATION:Preliminary Event Notice for York
DESCRIPTION:https://www.bmwclubwa.asn.au/event-3367404\n\nPreliminary notification from the Mercedes Benz Club WA advises an exciting gathering of all German car brands in York this year. More information to follow closer to the date.\n  \n\n  \n\n
DTSTAMP:20260424T162907Z
END:VEVENT
END:VCALENDAR
