BEGIN:VCALENDAR
VERSION:2.0
METHOD:PUBLISH
BEGIN:VEVENT
UID:WILD_APRICOT_EVENT_3380033_SESSION_1
DTSTART:20190501T083000Z
DTEND:20190501T120000Z
SUMMARY:Westcoast BMW Ultimate M Event
LOCATION:Westcoast BMW\, 17 Luisini Road\, Wangara
DESCRIPTION:https://www.bmwclubwa.asn.au/event-3380033\n\nOn Wednesday 1 May Westcoast BMW will be holding their Ultimate M Event and BMW Club Members are invited to attend from 4.30PM onwards.\n  A special selection of rare performance and racing vehicles will be on display\, including the BMW 850i\, i8\, M5\, 1M\, Alpina B6. An M3 Supercharged Harrop Car and V8 engine conversation model will also be in the showroom\, with high performance BMW Motorcycles.\n  There will be 2 technical sessions on the BMW M850i (5.30PM and 6.30PM) to join.\n  Thank you to Scott Howard\, Westcoast’s Parts Manager for extending this invitation to the Club.\n  \n\n
DTSTAMP:20260424T182658Z
END:VEVENT
END:VCALENDAR
