BEGIN:VCALENDAR
VERSION:2.0
METHOD:PUBLISH
BEGIN:VEVENT
UID:WILD_APRICOT_EVENT_3532370_SESSION_1
DTSTART:20190923T230000Z
DTEND:20190924T050000Z
SUMMARY:Track Day - Jaguar Car Club of WA
LOCATION:Barbagallo Raceway
DESCRIPTION:https://www.bmwclubwa.asn.au/event-3532370\n\nMembers of BMW Club WA are invited to join in with the Jaguar Car Club of WA's Track Day as guests. The event is a half day event on Tuesday 24 September.\n\n  The event is intended to improve driving skills\, familiarisation of the vehicle’s performance\, the awareness of other vehicles and for sheer enjoyment under controlled conditions.\n  Costs for the day will be $120 plus the cost of a track licence if necessary ($25).\n  A reservation for a place on the track can be made by replying to the Club Email advertising the event. All the details you need to know will be in that email.\n\n
DTSTAMP:20260424T163108Z
END:VEVENT
END:VCALENDAR
