BEGIN:VCALENDAR
VERSION:2.0
METHOD:PUBLISH
BEGIN:VEVENT
UID:WILD_APRICOT_EVENT_3569693_SESSION_1
DTSTART:20191208T040000Z
DTEND:20191208T070000Z
SUMMARY:AGM and Lunch
LOCATION:Oakover Winery\, Swan Valley
DESCRIPTION:https://www.bmwclubwa.asn.au/event-3569693\n\nThe Club will provide a catered lunch and a complimentary glass of sparkling wine at The Oakover Winery. Bring your partner and enjoy the conviviality of our final event of the year and deal with the formalities of the Annual General Meeting to elect next year's Committee.\n  Catering registration closed as of 30 November. \n  \n\n  \n\n
DTSTAMP:20260424T184419Z
END:VEVENT
END:VCALENDAR
