BEGIN:VCALENDAR
VERSION:2.0
METHOD:PUBLISH
BEGIN:VEVENT
UID:WILD_APRICOT_EVENT_3689339_SESSION_1
DTSTART:20200208T100000Z
DTEND:20200208T120000Z
SUMMARY:Twilight at Freshwaters Cafe Restaurant Mosman Park
LOCATION:Freshwaters Cafe Restaurant\, Manners Hill Park\, Peppermint Grove
DESCRIPTION:https://www.bmwclubwa.asn.au/event-3689339\n\nCommencing our 2020 BMW Club year with a casual dinner on Saturday 8 February at Freshwaters Cafe Restaurant\, Peppermint Grove - overlooking the river.\n  Freshwaters offers cafe style meals and a delightful setting from twilight leading into the evening.\n  RSVP's have closed for this event.\n
DTSTAMP:20260424T162054Z
END:VEVENT
END:VCALENDAR
