BEGIN:VCALENDAR
VERSION:2.0
METHOD:PUBLISH
BEGIN:VEVENT
UID:WILD_APRICOT_EVENT_3734145_SESSION_1
DTSTART:20200905T013000Z
DTEND:20200905T040000Z
SUMMARY:Technical Morning with Westcoast BMW
LOCATION:17 Luisini Drive\, Wangara
DESCRIPTION:https://www.bmwclubwa.asn.au/event-3734145\n\nAn in depth look at BMW’s world famous technology and expertise thanks to our friends at Westcoast BMW. Find out about current developments and innovations from their Aftersales Manager\, Master Technician and specialist Parts Team.\n  BMW dynamic driving modes will be the focus of this year's forum.\n  Following the easing of restrictions by State Government\, we have regrouped with our sponsor and rescheduled to 5 September\, due to BMW's work restrictions. \n  RSVP by 31 August to John Slade email: president@bmwclubwa.asn.au \n  \n\n
DTSTAMP:20260424T172548Z
END:VEVENT
END:VCALENDAR
