BEGIN:VCALENDAR
VERSION:2.0
METHOD:PUBLISH
BEGIN:VEVENT
UID:WILD_APRICOT_EVENT_3761436_SESSION_1
DTSTART:20201025T013000Z
DTEND:20201025T073000Z
SUMMARY:German Car Day 2020
LOCATION:East Perth rendezvous\, then Dwellingup
DESCRIPTION:https://www.bmwclubwa.asn.au/event-3761436\n\nPreliminary notification from the Mercedes Benz Club WA advises an exciting gathering of all German car brands this year. As is traditional\, we have no idea yet where the MB Club will take us\, though it is thought to be within 80 km of Perth. The latest information tells us that it is likely to be a drive to Dwellingup\, where we will congregate on the Oval.\n\n  Clubs will gather at the public car park in Nelson Crescent\, East Perth by 9.30 am (where there will be a coffee van) before heading off to the destination.\n  The event is a charity fundraiser so there is a small entry fee at East Perth\, where you can register for the run and receive your navigation instructions.\n\n  \n\n  \n\n  \n\n  \n\n
DTSTAMP:20260424T162846Z
END:VEVENT
END:VCALENDAR
