BEGIN:VCALENDAR
VERSION:2.0
METHOD:PUBLISH
BEGIN:VEVENT
UID:WILD_APRICOT_EVENT_3761441_SESSION_1
DTSTART:20200529T010000Z
DTEND:20200602T100000Z
SUMMARY:Long Weekend Away - (Dates and Places TBC)
LOCATION:Margaret River region
DESCRIPTION:https://www.bmwclubwa.asn.au/event-3761441\n\nThe June Long Weekend Away will be on again\, with a tour over Friday\, Saturday\, Sunday and Monday to a destination with accommodation and activities for members' enjoyment.\n  Still in the planning stages - this is just a marker for members' diaries at this stage but the planning will be around Margaret River/ Augusta/ Cowaramup/ Yallingup (ish) rather than the Albany region this year\n\n\n
DTSTAMP:20260424T195546Z
END:VEVENT
END:VCALENDAR
