BEGIN:VCALENDAR
VERSION:2.0
METHOD:PUBLISH
BEGIN:VEVENT
UID:WILD_APRICOT_EVENT_3761443_SESSION_1
DTSTART:20200515T050000Z
DTEND:20200515T090000Z
SUMMARY:Club Driver Training Day (TBC)
LOCATION:DRM Training Track\, Grogan Road\, Airport
DESCRIPTION:https://www.bmwclubwa.asn.au/event-3761443\n\nA Driver Training afternoon at the DRM Training Centre at the airport\, that will involve members\, their cars\, some instruction and some solo untimed laps of the track.\n  No special preparation required for the cars and no special licences required for the drivers. Helmets and long-sleeves the main prerequisite.\n  \n\n
DTSTAMP:20260424T162933Z
END:VEVENT
END:VCALENDAR
