BEGIN:VCALENDAR
VERSION:2.0
METHOD:PUBLISH
BEGIN:VEVENT
UID:WILD_APRICOT_EVENT_3761446_SESSION_1
DTSTART:20200517T013000Z
DTEND:20200517T073000Z
SUMMARY:Visit to the Gravity Discovery Centre at Gingin (TBC)
LOCATION:Gingin
DESCRIPTION:https://www.bmwclubwa.asn.au/event-3761446\n\nA Club run up the coast road to visit the Gravity Discovery Centre near Gingin is proposed.\n  One for all the family\, there is lots to see and do at the Centre and there is a cafe for lunch (or bring your own picnic) and guided tours of the facility ($14).\n  And it's tarmac all the way.\n  Current circumstances dictate that this is a pencil-in only opportunity at the moment\, as the venue may be impacted by COVID-19 restrictions by that time\, but keep it in mind. We'll certainly be keeping you informed as we get closer to the date.\n\n  \n\n  \n\n  \n\n
DTSTAMP:20260424T161938Z
END:VEVENT
END:VCALENDAR
