BEGIN:VCALENDAR
VERSION:2.0
METHOD:PUBLISH
BEGIN:VEVENT
UID:WILD_APRICOT_EVENT_3771832_SESSION_1
DTSTART:20200503T020000Z
DTEND:20200503T080000Z
SUMMARY:Guilderton Country Club Run (TBC)
LOCATION:Guilderton (Moore River)
DESCRIPTION:https://www.bmwclubwa.asn.au/event-3771832\n\nRendezvous at the City Beach car park by 10.00 am\, then a convoy run up the beaches for a Sunday Lunch at the Guilderton Country Club.\n  \n\n  Date and details to be confirmed closer to the time and subject to any COVID-19 restrictions\n\n
DTSTAMP:20260424T161045Z
END:VEVENT
END:VCALENDAR
