BEGIN:VCALENDAR
VERSION:2.0
METHOD:PUBLISH
BEGIN:VEVENT
UID:WILD_APRICOT_EVENT_827967_SESSION_1
DTSTART:20140202T023000Z
DTEND:20140202T023000Z
SUMMARY:Lunch in the Valley
LOCATION:Penny Garden Restaurant
DESCRIPTION:http://bmwclubwa.asn.au/event-827967\n\nStarting from Auto Classic at 10.30 am\, we will find our way to the Yahava Coffee Works for a latte\, then head next door to the Penny Garden Restaurant for a leisurely Sunday Lunch. A great chance to renew acquaintance with fellow Club members after the summer holidays.\n
DTSTAMP:20200229T011617Z
END:VEVENT
END:VCALENDAR
