BEGIN:VCALENDAR
VERSION:2.0
METHOD:PUBLISH
BEGIN:VEVENT
UID:WILD_APRICOT_EVENT_829696_SESSION_1
DTSTART:20140131T073000Z
DTEND:20140131T103000Z
SUMMARY:Tuning Afternoon
LOCATION:RAC Driving Centre\, Grogan Road\, Kewdale
DESCRIPTION:http://bmwclubwa.asn.au/event-829696\n\nA low-cost and casual track session\, run in conjunction with the WRX Owners Club of WA. Track time for those who can get away from work early.\n \n To participate in this event\, refer to your recent Club emails and follow the process outlined there.\n
DTSTAMP:20200229T011628Z
END:VEVENT
END:VCALENDAR
