BEGIN:VCALENDAR
VERSION:2.0
METHOD:PUBLISH
BEGIN:VEVENT
UID:WILD_APRICOT_EVENT_843292_SESSION_1
DTSTART:20140213T100000Z
DTEND:20140213T113000Z
SUMMARY:An Invitation to Preview the BMW i3
LOCATION:Auto Classic BMW\, 48 Burswood Road\, Victoria Park
DESCRIPTION:http://bmwclubwa.asn.au/event-843292\n\nOn Thursday 13 February we have been invited to join the Auto Classic BMW unveiling of the first BMW i3 electric vehicle to arrive in Australia.\n  Described as uncompromisingly different and designed for modern urban life\, the all new electric i3 combines innovative technologies with progressive performance and BMW’s acclaimed stylish design. Recognised as a game-changer for future mobility\, the BMW i3 will be available for sale in the Australian market in mid-2014.\n  Auto Classic has kindly extended an invitation to interested Members of the BMW Club WA to attend the preview of the new i3.\n    RSVP Essential by Friday 7 February please\, to John Slade: president@bmwclubwa.asn.au\n\n  Alternatively\, please register for this event on this website.\n\n  Refreshments to be provided along with a short presentation discussing electric technology.\n  
DTSTAMP:20200229T011605Z
END:VEVENT
END:VCALENDAR
