BEGIN:VCALENDAR
VERSION:2.0
METHOD:PUBLISH
BEGIN:VEVENT
UID:WILD_APRICOT_EVENT_843294_SESSION_1
DTSTART:20140427T020000Z
DTEND:20140427T080000Z
SUMMARY:Classic Car Show
LOCATION:Whiteman Park
DESCRIPTION:http://bmwclubwa.asn.au/event-843294\n\nThe Classic Car Show is an annual event held in the picturesque grounds of Whiteman Park in the Swan Valley. Almost every conceivable marque of car will be on display for your perusal\, from extremely ancient vintage cars\, through WWII military vehicles\, to post-war classics and on to modern vehicles.\n \n The Club is not displaying BMWs this year nor officially attending\, but members may find the Classic Car Show an event worth attending on the Anzac Day long weekend.\n
DTSTAMP:20200229T011454Z
END:VEVENT
END:VCALENDAR
