BEGIN:VCALENDAR
VERSION:2.0
METHOD:PUBLISH
BEGIN:VEVENT
UID:WILD_APRICOT_EVENT_843295_SESSION_1
DTSTART:20140406T010000Z
DTEND:20140406T090000Z
SUMMARY:Classic Car Run to the Northam Flying Fifty
LOCATION:Northam\, WA
DESCRIPTION:http://bmwclubwa.asn.au/event-843295\n\nThe VSCCWA is celebrating the 15th annual running of The Flying Fifty around the houses at Northam Sunday 6th April 2014.\n   The VSCCWA invites members of Motoring Clubs and other classic car enthusiasts to participate in the inaugural Classic Car Run leaving Stirling Square\, Guildford from 7.30 am to 10 am via a scenic observation course to Northam.\n   Parking will be provided in a designated club area by the river in Northam. A program of events\, a viewing tent of track\, and access to the pits will be provided on the day.\n   The cost of run is $20.00 per car with part proceeds donated to breast cancer research.\n   Theme of the event is Think Pink\, so wear something PINK!\n  BMW Club WA members are invited to participate in this fun and worthy cause. We will run in convoy to Northam\, congregating at  Stirling Gardens\, Guildford (where we held our last Show'N'Shine)  at 9.00 am and leaving by 9.30 am. Bring a picnic lunch or purchase refreshments in Northam.\n
DTSTAMP:20200229T011520Z
END:VEVENT
END:VCALENDAR
