BEGIN:VCALENDAR
VERSION:2.0
METHOD:PUBLISH
BEGIN:VEVENT
UID:WILD_APRICOT_EVENT_853929_SESSION_1
DTSTART:20140330T020000Z
DTEND:20140330T090000Z
SUMMARY:Frank's Poker Run
LOCATION:Auto Classic\, Burswood Road\, Victoria Park
DESCRIPTION:http://bmwclubwa.asn.au/event-853929\n\nSave the date for Frank’s Poker Run\, to be held on Sunday\, March 30th which combines a navigation run\, starting from Auto Classic\, and finishing with lunch in the country. This is an enjoyable and popular event\, now in its third year\, requiring members to follow clues to predetermined locations where they receive a playing card to make up a poker hand. A nominal fee is charged to participate\, which makes up the cash prize to be presented to the best hand at the end of the run. The event is not competitively timed so anyone can win regardless of when they finish. More details will be distributed around the beginning of March.
DTSTAMP:20200229T011532Z
END:VEVENT
END:VCALENDAR
