BEGIN:VCALENDAR
VERSION:2.0
METHOD:PUBLISH
BEGIN:VEVENT
UID:WILD_APRICOT_EVENT_863139_SESSION_1
DTSTART:20140315T100000Z
DTEND:20140315T150000Z
SUMMARY:Club Curry Night
LOCATION:The Ford Mansion\, 74 Coffey Road\, Banjup (off Armadale Road)
DESCRIPTION:http://bmwclubwa.asn.au/event-863139\n\nCome and enjoy a Club Catered Curry Night\, BYO drinks with $10 per person contribution. RSVP Essential please by 12 March to aford@rubiconresources.com.au\; 0407 983 484\n \n
DTSTAMP:20200229T011555Z
END:VEVENT
END:VCALENDAR
