BEGIN:VCALENDAR
VERSION:2.0
METHOD:PUBLISH
BEGIN:VEVENT
UID:WILD_APRICOT_EVENT_863141_SESSION_1
DTSTART:20140413T020000Z
DTEND:20140413T090000Z
SUMMARY:Sunday Lunch at Peel Estate
LOCATION:Peel Estate Winery\, Baldivis - Start from Auto Classic
DESCRIPTION:http://bmwclubwa.asn.au/event-863141\n\nA Navigation Run (simple) from our starting point at Auto Classic BMW in Burswood Road Victoria Park\, to the legendary Peel Estate winery in the bush at Karnup for a picnic lunch on the lawns under the shade of the big gum trees there.\n \n Wine tasting at the cellar door and purchase something to wash down the picnic. BBQs are available if you wish to use them for your picnic. Bring picnic\, rugs and/or chairs.\n \n RSVP to John Oppermann (9364 5663) by the end of March.\n
DTSTAMP:20200229T011506Z
END:VEVENT
END:VCALENDAR
